BEGIN:VCALENDAR
VERSION:2.0
PRODID:-//Ortsgemeinde Herborn//NONSGML kigkonsult.se iCalcreator 2.41.92//
CALSCALE:GREGORIAN
METHOD:PUBLISH
UID:62383530-3034-4062-b938-666334356263
X-WR-CALNAME:iCagenda
X-WR-CALDESC:Event Management Extension for Joomla!
X-WR-RELCALID:3E26604A-50F4-4449-8B3E-E4F4932D05B5
X-WR-TIMEZONE:Europe/Berlin
BEGIN:VTIMEZONE
TZID:Europe/Berlin
TZUNTIL:20280326T010000Z
BEGIN:STANDARD
TZNAME:CET
DTSTART:20251026T030000
TZOFFSETFROM:+0200
TZOFFSETTO:+0100
RDATE:20261025T030000
RDATE:20271031T030000
END:STANDARD
BEGIN:DAYLIGHT
TZNAME:CEST
DTSTART:20260329T020000
TZOFFSETFROM:+0100
TZOFFSETTO:+0200
RDATE:20270328T020000
END:DAYLIGHT
END:VTIMEZONE
BEGIN:VEVENT
UID:33393765-6236-4263-a130-336263366634
DTSTAMP:20260422T161420Z
CATEGORIES:Event
CLASS:PUBLIC
DESCRIPTION:
DTSTART:20260822T080000Z
DTEND:20260822T080000Z
GEO:+49.766838;+7.289279
LOCATION:Festplatz
ORGANIZER:
SEQUENCE:1
SUMMARY:TuS Picknick
TRANSP:OPAQUE
URL:https://herborn-hunsrueck.de/index.php/aktuelles/32-tus-picknick/2026-0
 8-22-10-00
END:VEVENT
END:VCALENDAR
