BEGIN:VCALENDAR
VERSION:2.0
PRODID:-//Ortsgemeinde Herborn//NONSGML kigkonsult.se iCalcreator 2.41.92//
CALSCALE:GREGORIAN
METHOD:PUBLISH
UID:33366266-3037-4037-b837-613039636662
X-WR-CALNAME:iCagenda
X-WR-CALDESC:Event Management Extension for Joomla!
X-WR-RELCALID:3E26604A-50F4-4449-8B3E-E4F4932D05B5
X-WR-TIMEZONE:Europe/Berlin
BEGIN:VTIMEZONE
TZID:Europe/Berlin
TZUNTIL:20281029T010000Z
BEGIN:STANDARD
TZNAME:CET
DTSTART:20261025T030000
TZOFFSETFROM:+0200
TZOFFSETTO:+0100
RDATE:20271031T030000
END:STANDARD
BEGIN:DAYLIGHT
TZNAME:CEST
DTSTART:20260329T020000
TZOFFSETFROM:+0100
TZOFFSETTO:+0200
RDATE:20270328T020000
RDATE:20280326T020000
END:DAYLIGHT
END:VTIMEZONE
BEGIN:VEVENT
UID:31363661-6533-4566-b539-646464663938
DTSTAMP:20260422T192149Z
CATEGORIES:Event
CLASS:PUBLIC
DESCRIPTION;ALTREP="CID:<FFFF__=0ABBE548DFE235B58f9e8a93d@coffeebean.com>":
 gemeinsam die Vorwihnachtszeit erleben
DTSTART:20261201T142800Z
DTEND:20261224T142800Z
GEO:+49.767445;+7.295218
LOCATION:Adressen siehe nebenan.de
ORGANIZER:
SEQUENCE:1
SUMMARY:Adventsfenster 2026 in Herborn
TRANSP:OPAQUE
URL:https://herborn-hunsrueck.de/index.php/aktuelles/33-adventsfenster-2026
 -in-herborn
END:VEVENT
END:VCALENDAR
