BEGIN:VCALENDAR
VERSION:2.0
PRODID:-//Ortsgemeinde Herborn//NONSGML kigkonsult.se iCalcreator 2.41.92//
CALSCALE:GREGORIAN
METHOD:PUBLISH
UID:62313338-3762-4838-a338-356264663339
X-WR-CALNAME:iCagenda
X-WR-CALDESC:Event Management Extension for Joomla!
X-WR-RELCALID:3E26604A-50F4-4449-8B3E-E4F4932D05B5
X-WR-TIMEZONE:Europe/Berlin
BEGIN:VTIMEZONE
TZID:Europe/Berlin
TZUNTIL:20281029T010000Z
BEGIN:STANDARD
TZNAME:CET
DTSTART:20261025T030000
TZOFFSETFROM:+0200
TZOFFSETTO:+0100
RDATE:20271031T030000
END:STANDARD
BEGIN:DAYLIGHT
TZNAME:CEST
DTSTART:20260329T020000
TZOFFSETFROM:+0100
TZOFFSETTO:+0200
RDATE:20270328T020000
RDATE:20280326T020000
END:DAYLIGHT
END:VTIMEZONE
BEGIN:VEVENT
UID:37636239-3836-4435-a261-326366326336
DTSTAMP:20260422T193907Z
CATEGORIES:Event
CLASS:PUBLIC
DESCRIPTION:
DTSTART:20261206T143600Z
DTEND:20261206T143600Z
GEO:+49.770046;+7.296356
LOCATION:Königswaldhalle
ORGANIZER:
SEQUENCE:1
SUMMARY:Weihnachtsbaumverkauf 2026 mit Nikolausbesuch
TRANSP:OPAQUE
URL:https://herborn-hunsrueck.de/index.php/aktuelles/34-weihnachtsbaumverka
 uf-2026-mit-nikolausbesuch/2026-12-06-15-36
END:VEVENT
END:VCALENDAR
