BEGIN:VCALENDAR
VERSION:2.0
PRODID:-//Ortsgemeinde Herborn//NONSGML kigkonsult.se iCalcreator 2.41.92//
CALSCALE:GREGORIAN
METHOD:PUBLISH
UID:30363433-3439-4330-b938-613062323734
X-WR-CALNAME:iCagenda
X-WR-CALDESC:Event Management Extension for Joomla!
X-WR-RELCALID:3E26604A-50F4-4449-8B3E-E4F4932D05B5
X-WR-TIMEZONE:Europe/Berlin
BEGIN:VTIMEZONE
TZID:Europe/Berlin
TZUNTIL:20281029T010000Z
BEGIN:STANDARD
TZNAME:CET
DTSTART:20261025T030000
TZOFFSETFROM:+0200
TZOFFSETTO:+0100
RDATE:20271031T030000
END:STANDARD
BEGIN:DAYLIGHT
TZNAME:CEST
DTSTART:20260329T020000
TZOFFSETFROM:+0100
TZOFFSETTO:+0200
RDATE:20270328T020000
RDATE:20280326T020000
END:DAYLIGHT
END:VTIMEZONE
BEGIN:VEVENT
UID:30346131-3966-4966-a232-616237613239
DTSTAMP:20260422T211122Z
CATEGORIES:Event
CLASS:PUBLIC
DESCRIPTION:
DTSTART:20261227T090000Z
DTEND:20261227T090000Z
GEO:+49.775841;+7.271959
LOCATION:Kreuzbuche
ORGANIZER:
SEQUENCE:1
SUMMARY:Wannerschdaach 2026
TRANSP:OPAQUE
URL:https://herborn-hunsrueck.de/index.php/aktuelles/35-wannerschdaach-2026
 /2026-12-27-10-00
END:VEVENT
END:VCALENDAR
